Workbook

Sheet 요청시트
A2: 팀 | B2: MD | C2: 표준카테그룹 | D2: 표준카테대분류 | E2: 표준카테중분류 | F2: 표준카테소분류 | G2: 표준카테세분류 | H2: 인증 구분
A3: 라이프스타일매입운영팀 | B3: 이예은 | C3: =VLOOKUP(G3,Sheet1!A:D,3,FALSE) -> 리빙 | D3: =VLOOKUP(G3,Sheet1!A:D,4,FALSE) -> 키친 | E3: 조리용품 | F3: 냄비/솥/주전자 | G3: 압력솥 | H3: 생활용품 안전인증
A4: 라이프스타일매입운영팀 | B4: 이장한 | C4: =VLOOKUP(G4,Sheet1!A:D,3,FALSE) -> 리빙 | D4: =VLOOKUP(G4,Sheet1!A:D,4,FALSE) -> 생활/자동차/공구/성인 | E4: 자동차용품 | F4: 방향제 | G4: 방향제/탈취제 | H4: 생활화학제품 인증
A5: 라이프스타일매입운영팀 | B5: 이장한 | C5: =VLOOKUP(G5,Sheet1!A:D,3,FALSE) -> 리빙 | D5: =VLOOKUP(G5,Sheet1!A:D,4,FALSE) -> 생활/자동차/공구/성인 | E5: 자동차용품 | F5: 차량관리/세차용품 | G5: 보수페인트/스프레이 | H5: 생활화학제품 인증
A6: 라이프스타일매입운영팀 | B6: 이장한 | C6: =VLOOKUP(G6,Sheet1!A:D,3,FALSE) -> 리빙 | D6: =VLOOKUP(G6,Sheet1!A:D,4,FALSE) -> 생활/자동차/공구/성인 | E6: 자동차용품 | F6: 차량관리/세차용품 | G6: 세차/청소 용품 | H6: 생활화학제품 인증
A7: 라이프스타일매입운영팀 | B7: 이장한 | C7: =VLOOKUP(G7,Sheet1!A:D,3,FALSE) -> 리빙 | D7: =VLOOKUP(G7,Sheet1!A:D,4,FALSE) -> 생활/자동차/공구/성인 | E7: 자동차용품 | F7: 차량관리/세차용품 | G7: 엔진오일/연료첨가제 | H7: 생활화학제품 인증
A8: 라이프스타일매입운영팀 | B8: 이장한 | C8: =VLOOKUP(G8,Sheet1!A:D,3,FALSE) -> 리빙 | D8: =VLOOKUP(G8,Sheet1!A:D,4,FALSE) -> 생활/자동차/공구/성인 | E8: 자동차용품 | F8: 차량관리/세차용품 | G8: 워셔액 | H8: 생활화학제품 인증
A9: 라이프스타일매입운영팀 | B9: 이장한 | C9: =VLOOKUP(G9,Sheet1!A:D,3,FALSE) -> 리빙 | D9: =VLOOKUP(G9,Sheet1!A:D,4,FALSE) -> 생활/자동차/공구/성인 | E9: 자동차용품 | F9: 차량관리/세차용품 | G9: 코팅/왁스/광택 | H9: 생활화학제품 인증
A10: 라이프스타일매입운영팀 | B10: 이장한 | C10: =VLOOKUP(G10,Sheet1!A:D,3,FALSE) -> 리빙 | D10: =VLOOKUP(G10,Sheet1!A:D,4,FALSE) -> 가구/인테리어 | E10: 홈데코/조명 | F10: 디퓨저/캔들 | G10: 디퓨저 | H10: 생활화학제품 인증
A11: 라이프스타일매입운영팀 | B11: 이장한 | C11: =VLOOKUP(G11,Sheet1!A:D,3,FALSE) -> 리빙 | D11: =VLOOKUP(G11,Sheet1!A:D,4,FALSE) -> 생활/자동차/공구/성인 | E11: 홈데코/조명 | F11: 디퓨저/캔들 | G11: 캔들 | H11: 생활화학제품 인증
A12: 라이프스타일매입운영팀 | B12: 정다와 | C12: =VLOOKUP(G12,Sheet1!A:D,3,FALSE) -> 리빙 | D12: =VLOOKUP(G12,Sheet1!A:D,4,FALSE) -> 생활/자동차/공구/성인 | E12: 공구/철물/안전/보안 | F12: 공구/철물 | G12: 접착/보수/페인트 | H12: 생활화학제품 인증
A13: 라이프스타일매입운영팀 | B13: 정다와 | C13: =VLOOKUP(G13,Sheet1!A:D,3,FALSE) -> 리빙 | D13: =VLOOKUP(G13,Sheet1!A:D,4,FALSE) -> 생활/자동차/공구/성인 | E13: JAJU생활 | F13: 헬스/생활잡화 | G13: 캔들 | H13: 생활화학제품 인증
A14: 라이프스타일매입운영팀 | B14: 정다와 | C14: =VLOOKUP(G14,Sheet1!A:D,3,FALSE) -> 리빙 | D14: =VLOOKUP(G14,Sheet1!A:D,4,FALSE) -> 생활/자동차/공구/성인 | E14: 공구/철물/안전/보안 | F14: 공구/철물 | G14: 건전지 | H14: KC안전확인번호
... A62: 라이프스타일매입운영팀 | B62: 김연 | C62: =VLOOKUP(G62,Sheet1!A:D,3,FALSE) -> 유아동 | D62: =VLOOKUP(G62,Sheet1!A:D,4,FALSE) -> 유아/완구/용품 | E62: 출산/유아동용품 | F62: 카시트/유모차/아기띠 | G62: 아기띠/캐리어/힙시트/아기띠용품 | H62: 어린이제품 안전인증
A63: 라이프스타일매입운영팀 | B63: 이경원 | C63: =VLOOKUP(G63,Sheet1!A:D,3,FALSE) -> 일상 | D63: =VLOOKUP(G63,Sheet1!A:D,4,FALSE) -> 일상상품군 | E63: 세제 | F63: 방향방충제 | G63: 나프탈렌/좀약 | H63: 생활화학제품 인증 살생물제품 인증 | I63: 이경원, 박소은, 서성민, 조현하, 류현정
A64: 라이프스타일매입운영팀 | B64: 이경원 | C64: =VLOOKUP(G64,Sheet1!A:D,3,FALSE) -> 일상 | D64: =VLOOKUP(G64,Sheet1!A:D,4,FALSE) -> 일상상품군 | E64: 세제 | F64: 방향방충제 | G64: 모기약 | H64: 살생물제품 인증
A65: 라이프스타일매입운영팀 | B65: 이경원 | C65: =VLOOKUP(G65,Sheet1!A:D,3,FALSE) -> 일상 | D65: =VLOOKUP(G65,Sheet1!A:D,4,FALSE) -> 일상상품군 | E65: 세제 | F65: 방향방충제 | G65: 방향제 | H65: 생활화학제품 인증
A66: 라이프스타일매입운영팀 | B66: 이경원 | C66: =VLOOKUP(G66,Sheet1!A:D,3,FALSE) -> 일상 | D66: =VLOOKUP(G66,Sheet1!A:D,4,FALSE) -> 일상상품군 | E66: 세제 | F66: 방향방충제 | G66: 살충제 | H66: 살생물제품 인증
A67: 라이프스타일매입운영팀 | B67: 이경원 | C67: =VLOOKUP(G67,Sheet1!A:D,3,FALSE) -> 일상 | D67: =VLOOKUP(G67,Sheet1!A:D,4,FALSE) -> 일상상품군 | E67: 세제 | F67: 방향방충제 | G67: 해충퇴치제 | H67: 살생물제품 인증
A68: 라이프스타일매입운영팀 | B68: 이경원 | C68: =VLOOKUP(G68,Sheet1!A:D,3,FALSE) -> 일상 | D68: =VLOOKUP(G68,Sheet1!A:D,4,FALSE) -> 일상상품군 | E68: 세제 | F68: 섬유유연제 | G68: 일반섬유유연제 | H68: 생활화학제품 인증
A69: 라이프스타일매입운영팀 | B69: 이경원 | C69: =VLOOKUP(G69,Sheet1!A:D,3,FALSE) -> 일상 | D69: =VLOOKUP(G69,Sheet1!A:D,4,FALSE) -> 일상상품군 | E69: 세제 | F69: 섬유유연제 | G69: 프리미엄섬유유연제 | H69: 생활화학제품 인증
A70: 라이프스타일매입운영팀 | B70: 이경원 | C70: =VLOOKUP(G70,Sheet1!A:D,3,FALSE) -> 일상 | D70: =VLOOKUP(G70,Sheet1!A:D,4,FALSE) -> 일상상품군 | E70: 세제 | F70: 세탁세제 | G70: 드럼세탁세제 | H70: 생활화학제품 인증
A71: 라이프스타일매입운영팀 | B71: 이경원 | C71: =VLOOKUP(G71,Sheet1!A:D,3,FALSE) -> 일상 | D71: =VLOOKUP(G71,Sheet1!A:D,4,FALSE) -> 일상상품군 | E71: 세제 | F71: 세탁세제 | G71: 시트/캡슐세제 | H71: 생활화학제품 인증
A72: 라이프스타일매입운영팀 | B72: 이경원 | C72: =VLOOKUP(G72,Sheet1!A:D,3,FALSE) -> 일상 | D72: =VLOOKUP(G72,Sheet1!A:D,4,FALSE) -> 일상상품군 | E72: 세제 | F72: 세탁세제 | G72: 유아용세탁세제 | H72: 생활화학제품 인증
A73: 라이프스타일매입운영팀 | B73: 이경원 | C73: =VLOOKUP(G73,Sheet1!A:D,3,FALSE) -> 일상 | D73: =VLOOKUP(G73,Sheet1!A:D,4,FALSE) -> 일상상품군 | E73: 세제 | F73: 세탁세제 | G73: 일반세탁세제 | H73: 생활화학제품 인증
A74: 라이프스타일매입운영팀 | B74: 이경원 | C74: =VLOOKUP(G74,Sheet1!A:D,3,FALSE) -> 일상 | D74: =VLOOKUP(G74,Sheet1!A:D,4,FALSE) -> 일상상품군 | E74: 세제 | F74: 소독제/살균제 | G74: 살균소독제 | H74: 식품첨가물 인증 생활화학제품 인증
A75: 라이프스타일매입운영팀 | B75: 이경원 | C75: =VLOOKUP(G75,Sheet1!A:D,3,FALSE) -> 일상 | D75: =VLOOKUP(G75,Sheet1!A:D,4,FALSE) -> 일상상품군 | E75: 세제 | F75: 유아용세제 | G75: 유아용세제/섬유유연제 | H75: 생활화학제품 인증
... A89: 라이프스타일매입운영팀 | B89: 노란선 | C89: =VLOOKUP(G89,Sheet1!A:D,3,FALSE) -> 일상 | D89: =VLOOKUP(G89,Sheet1!A:D,4,FALSE) -> 일상상품군 | E89: 바디케어 | F89: 베이비케어 | G89: 베이비세제 | H89: 생활화학제품 인증

Sheet 인증정보필수
A1: 표준카테대분류 | B1: 표준카테중분류 | C1: 표준카테소분류 | D1: 표준카테세분류 | E1: 인증 구분
A2: 일상상품군 | B2: 세제 | C2: 방향방충제 | D2: 방향제 | E2: 생활화학제품 인증
A3: 일상상품군 | B3: 세제 | C3: 섬유유연제 | D3: 일반섬유유연제 | E3: 생활화학제품 인증
A4: 일상상품군 | B4: 세제 | C4: 섬유유연제 | D4: 프리미엄섬유유연제 | E4: 생활화학제품 인증
A5: 일상상품군 | B5: 세제 | C5: 세탁세제 | D5: 드럼세탁세제 | E5: 생활화학제품 인증
A6: 일상상품군 | B6: 세제 | C6: 세탁세제 | D6: 시트/캡슐세제 | E6: 생활화학제품 인증
A7: 일상상품군 | B7: 세제 | C7: 세탁세제 | D7: 유아용세탁세제 | E7: 생활화학제품 인증
A8: 일상상품군 | B8: 세제 | C8: 세탁세제 | D8: 일반세탁세제 | E8: 생활화학제품 인증
A9: 일상상품군 | B9: 세제 | C9: 유아용세제 | D9: 유아용세제/섬유유연제 | E9: 생활화학제품 인증
A10: 일상상품군 | B10: 세제 | C10: 주거세제 | D10: 다용도세제 | E10: 생활화학제품 인증
A11: 일상상품군 | B11: 세제 | C11: 주거세제 | D11: 생활세정제 | E11: 생활화학제품 인증
A12: 일상상품군 | B12: 세제 | C12: 주거세제 | D12: 유리세정제 | E12: 생활화학제품 인증
... A16: 일상상품군 | B16: 바디케어 | C16: 베이비케어 | D16: 베이비세제 | E16: 생활화학제품 인증

Sheet Sheet3
A1: 대분류명 | B1: 대분류코드 | C1: 중분류명 | D1: 중분류코드 | E1: 소분류명 | F1: 소분류코드 | G1: 세분류명 | H1: 세분류코드
A2: 일상상품군 | B2: 1000033949 | C2: 세제 | D2: 2000000020 | E2: 소독제/살균제 | F2: 1000026430 | G2: 손소독제 | H2: 1000026449 | I2: =COUNTIF(인증정보필수!$D:$D,Sheet3!$G2) -> 0
A3: 일상상품군 | B3: 1000033949 | C3: 세제 | D3: 2000000020 | E3: 소독제/살균제 | F3: 1000026430 | G3: 살균소독제 | H3: 1000027760 | I3: =COUNTIF(인증정보필수!$D:$D,Sheet3!$G3) -> 0
A4: 일상상품군 | B4: 1000033949 | C4: 세제 | D4: 2000000020 | E4: 유아용세제 | F4: 1000027436 | G4: 유아용세제/섬유유연제 | H4: 1000027620 | I4: =COUNTIF(인증정보필수!$D:$D,Sheet3!$G4) -> 1
A5: 일상상품군 | B5: 1000033949 | C5: 세제 | D5: 2000000020 | E5: 방향방충제 | F5: 3000000186 | G5: 해충퇴치제 | H5: 1000027761 | I5: =COUNTIF(인증정보필수!$D:$D,Sheet3!$G5) -> 0
A6: 일상상품군 | B6: 1000033949 | C6: 세제 | D6: 2000000020 | E6: 방향방충제 | F6: 3000000186 | G6: 살충제 | H6: 4000002100 | I6: =COUNTIF(인증정보필수!$D:$D,Sheet3!$G6) -> 0
A7: 일상상품군 | B7: 1000033949 | C7: 세제 | D7: 2000000020 | E7: 방향방충제 | F7: 3000000186 | G7: 나프탈렌/좀약 | H7: 4000002101 | I7: =COUNTIF(인증정보필수!$D:$D,Sheet3!$G7) -> 0
A8: 일상상품군 | B8: 1000033949 | C8: 세제 | D8: 2000000020 | E8: 방향방충제 | F8: 3000000186 | G8: 모기약 | H8: 4000002102 | I8: =COUNTIF(인증정보필수!$D:$D,Sheet3!$G8) -> 0
A9: 일상상품군 | B9: 1000033949 | C9: 세제 | D9: 2000000020 | E9: 방향방충제 | F9: 3000000186 | G9: 방향제 | H9: 4000002103 | I9: =COUNTIF(인증정보필수!$D:$D,Sheet3!$G9) -> 1
A10: 일상상품군 | B10: 1000033949 | C10: 세제 | D10: 2000000020 | E10: 생활선물세트 | F10: 3000000187 | G10: 생활선물세트 | H10: 4000004325 | I10: =COUNTIF(인증정보필수!$D:$D,Sheet3!$G10) -> 0
A11: 일상상품군 | B11: 1000033949 | C11: 세제 | D11: 2000000020 | E11: 섬유유연제 | F11: 3000000188 | G11: 일반섬유유연제 | H11: 4000002098 | I11: =COUNTIF(인증정보필수!$D:$D,Sheet3!$G11) -> 1
A12: 일상상품군 | B12: 1000033949 | C12: 세제 | D12: 2000000020 | E12: 섬유유연제 | F12: 3000000188 | G12: 프리미엄섬유유연제 | H12: 4000002099 | I12: =COUNTIF(인증정보필수!$D:$D,Sheet3!$G12) -> 1
A13: 일상상품군 | B13: 1000033949 | C13: 세제 | D13: 2000000020 | E13: 세탁세제 | F13: 3000000189 | G13: 시트/캡슐세제 | H13: 1000021507 | I13: =COUNTIF(인증정보필수!$D:$D,Sheet3!$G13) -> 1
... A30: 일상상품군 | B30: 1000033949 | C30: 세제 | D30: 2000000020 | E30: 표백제 | F30: 3000000193 | G30: 농축표백제 | H30: 4000002112 | I30: =COUNTIF(인증정보필수!$D:$D,Sheet3!$G30) -> 0
A35: 표준카테대분류 | B35: 표준카테중분류 | C35: 표준카테소분류 | D35: 표준카테세분류 | E35: 인증 구분
A36: 일상상품군 | B36: 세제 | C36: 방향방충제 | D36: 방향제 | E36: 생활화학제품 인증
A37: 일상상품군 | B37: 세제 | C37: 섬유유연제 | D37: 일반섬유유연제 | E37: 생활화학제품 인증
A38: 일상상품군 | B38: 세제 | C38: 섬유유연제 | D38: 프리미엄섬유유연제 | E38: 생활화학제품 인증
A39: 일상상품군 | B39: 세제 | C39: 세탁세제 | D39: 드럼세탁세제 | E39: 생활화학제품 인증
A40: 일상상품군 | B40: 세제 | C40: 세탁세제 | D40: 시트/캡슐세제 | E40: 생활화학제품 인증
A41: 일상상품군 | B41: 세제 | C41: 세탁세제 | D41: 유아용세탁세제 | E41: 생활화학제품 인증
A42: 일상상품군 | B42: 세제 | C42: 세탁세제 | D42: 일반세탁세제 | E42: 생활화학제품 인증
A43: 일상상품군 | B43: 세제 | C43: 유아용세제 | D43: 유아용세제/섬유유연제 | E43: 생활화학제품 인증
A44: 일상상품군 | B44: 세제 | C44: 주거세제 | D44: 다용도세제 | E44: 생활화학제품 인증
A45: 일상상품군 | B45: 세제 | C45: 주거세제 | D45: 생활세정제 | E45: 생활화학제품 인증
A46: 일상상품군 | B46: 세제 | C46: 주거세제 | D46: 유리세정제 | E46: 생활화학제품 인증
... A50: 일상상품군 | B50: 바디케어 | C50: 베이비케어 | D50: 베이비세제 | E50: 생활화학제품 인증

Sheet 인증정보필수세카
A1: 대분류명 | B1: 대분류코드 | C1: 중분류명 | D1: 중분류코드 | E1: 소분류명 | F1: 소분류코드 | G1: 세분류명 | H1: 세분류코드 | I1: 입력필수 인증정보
A2: 일상상품군 | B2: 1000033949 | C2: 세제 | D2: 2000000020 | E2: 유아용세제 | F2: 1000027436 | G2: 유아용세제/섬유유연제 | H2: 1000027620 | I2: 생활화학제품 인증
A3: 일상상품군 | B3: 1000033949 | C3: 세제 | D3: 2000000020 | E3: 방향방충제 | F3: 3000000186 | G3: 방향제 | H3: 4000002103 | I3: 생활화학제품 인증
A4: 일상상품군 | B4: 1000033949 | C4: 세제 | D4: 2000000020 | E4: 섬유유연제 | F4: 3000000188 | G4: 일반섬유유연제 | H4: 4000002098 | I4: 생활화학제품 인증
A5: 일상상품군 | B5: 1000033949 | C5: 세제 | D5: 2000000020 | E5: 섬유유연제 | F5: 3000000188 | G5: 프리미엄섬유유연제 | H5: 4000002099 | I5: 생활화학제품 인증
A6: 일상상품군 | B6: 1000033949 | C6: 세제 | D6: 2000000020 | E6: 세탁세제 | F6: 3000000189 | G6: 시트/캡슐세제 | H6: 1000021507 | I6: 생활화학제품 인증
A7: 일상상품군 | B7: 1000033949 | C7: 세제 | D7: 2000000020 | E7: 세탁세제 | F7: 3000000189 | G7: 일반세탁세제 | H7: 4000002093 | I7: 생활화학제품 인증
A8: 일상상품군 | B8: 1000033949 | C8: 세제 | D8: 2000000020 | E8: 세탁세제 | F8: 3000000189 | G8: 드럼세탁세제 | H8: 4000002094 | I8: 생활화학제품 인증
A9: 일상상품군 | B9: 1000033949 | C9: 세제 | D9: 2000000020 | E9: 세탁세제 | F9: 3000000189 | G9: 유아용세탁세제 | H9: 4000002096 | I9: 생활화학제품 인증
A10: 일상상품군 | B10: 1000033949 | C10: 세제 | D10: 2000000020 | E10: 주거세제 | F10: 3000000190 | G10: 다용도세제 | H10: 1000020805 | I10: 생활화학제품 인증
A11: 일상상품군 | B11: 1000033949 | C11: 세제 | D11: 2000000020 | E11: 주거세제 | F11: 3000000190 | G11: 유리세정제 | H11: 1000027685 | I11: 생활화학제품 인증
A12: 일상상품군 | B12: 1000033949 | C12: 세제 | D12: 2000000020 | E12: 주거세제 | F12: 3000000190 | G12: 생활세정제 | H12: 4000002110 | I12: 생활화학제품 인증
... A16: 일상상품군 | B16: 1000033949 | C16: 바디케어 | D16: 2000000013 | E16: 베이비케어 | F16: 3000000116 | G16: 베이비세제 | H16: 4000000132 | I16: 생활화학제품 인증

Sheet Sheet2
A2: 표준카테중분류 | B2: 표준카테소분류 | F2: 표준카테대분류 | G2: 표준카테중분류
A3: 세제 | B3: 방향방충제 | F3: 가구/인테리어 | G3: 홈데코/조명
A4: 세제 | B4: 섬유유연제 | F4: 생활/자동차/공구/성인 | G4: 자동차용품
A5: 세제 | B5: 세탁세제 | F5: 생활/자동차/공구/성인 | G5: 홈데코/조명
A6: 세제 | B6: 소독제/살균제 | F6: 생활/자동차/공구/성인 | G6: 공구/철물/안전/보안
A7: 세제 | B7: 유아용세제 | F7: 생활/자동차/공구/성인 | G7: JAJU생활
A8: 세제 | B8: 주거세제 | F8: 유아/완구/용품 | G8: 완구/놀이/교육
A9: 세제 | B9: 탈취제 | F9: 유아/완구/용품 | G9: 출산/유아동용품
A10: 세제 | B10: 표백제 | F10: 일상상품군 | G10: 세제 | H10: 이경원, 박소은, 서성민, 조현하, 류현정
A11: 조리용품 | B11: 냄비/솥/주전자 | F11: 일상상품군 | G11: 헬스케어 | H11: 서성민, 박소은, 조현하, 신혜순
A12: 헬스케어 | B12: 의약외품 | F12: 일상상품군 | G12: 바디케어 | H12: 박소진, 박소은, 노란선
A13: 자동차용품 | B13: 방향제 | F13: 키친 | G13: 조리용품 | H13: 송지숙, 박소은, 조현하, 이예은
A14: 자동차용품 | B14: 차량관리/세차용품
A15: 홈데코/조명 | B15: 디퓨저/캔들
A16: 공구/철물/안전/보안 | B16: 공구/철물
A17: JAJU생활 | B17: 헬스/생활잡화
A18: 완구/놀이/교육 | B18: 물놀이/파티/스포츠완구
A19: 완구/놀이/교육 | B19: 블록/작동완구
A20: 완구/놀이/교육 | B20: 승용/대형완구
A21: 완구/놀이/교육 | B21: 신생아/유아완구
A22: 완구/놀이/교육 | B22: 역할놀이/소꿉놀이
A23: 완구/놀이/교육 | B23: 인형/봉제
A24: 완구/놀이/교육 | B24: 학습/교육완구
A25: 출산/유아동용품 | B25: 가구/인테리어
... A36: 바디케어 | B36: 베이비케어

Sheet 전체 세분류
A4: 팀 | B4: 행 레이블 | C4: 표준카테그룹 | D4: 표준카테대분류 | E4: 표준카테중분류 | F4: 표준카테소분류 | G4: 표준카테세분류 | H4: 인증 구분
A5: 라이프스타일매입운영팀 | B5: 윤서영 | C5: =VLOOKUP(G5,Sheet1!A:D,3,FALSE) -> 일상 | D5: =VLOOKUP(G5,Sheet1!A:D,4,FALSE) -> 일상상품군 | E5: 제지 | F5: 미용티슈 | G5: 미용티슈
A6: 라이프스타일매입운영팀 | B6: 윤서영 | C6: =VLOOKUP(G6,Sheet1!A:D,3,FALSE) -> 일상 | D6: =VLOOKUP(G6,Sheet1!A:D,4,FALSE) -> 일상상품군 | E6: 제지 | F6: 생리대 | G6: 매쉬형생리대
A7: 라이프스타일매입운영팀 | B7: 윤서영 | C7: =VLOOKUP(G7,Sheet1!A:D,3,FALSE) -> 일상 | D7: =VLOOKUP(G7,Sheet1!A:D,4,FALSE) -> 일상상품군 | E7: 제지 | F7: 생리대 | G7: 성인용기저귀
A8: 라이프스타일매입운영팀 | B8: 윤서영 | C8: =VLOOKUP(G8,Sheet1!A:D,3,FALSE) -> 일상 | D8: =VLOOKUP(G8,Sheet1!A:D,4,FALSE) -> 일상상품군 | E8: 제지 | F8: 생리대 | G8: 순면생리대
A9: 라이프스타일매입운영팀 | B9: 윤서영 | C9: =VLOOKUP(G9,Sheet1!A:D,3,FALSE) -> 일상 | D9: =VLOOKUP(G9,Sheet1!A:D,4,FALSE) -> 일상상품군 | E9: 제지 | F9: 생리대 | G9: 오가닉생리대
A10: 라이프스타일매입운영팀 | B10: 윤서영 | C10: =VLOOKUP(G10,Sheet1!A:D,3,FALSE) -> 일상 | D10: =VLOOKUP(G10,Sheet1!A:D,4,FALSE) -> 일상상품군 | E10: 제지 | F10: 생리대 | G10: 오버나이트
A11: 라이프스타일매입운영팀 | B11: 윤서영 | C11: =VLOOKUP(G11,Sheet1!A:D,3,FALSE) -> 일상 | D11: =VLOOKUP(G11,Sheet1!A:D,4,FALSE) -> 일상상품군 | E11: 제지 | F11: 생리대 | G11: 코튼형생리대
A12: 라이프스타일매입운영팀 | B12: 윤서영 | C12: =VLOOKUP(G12,Sheet1!A:D,3,FALSE) -> 일상 | D12: =VLOOKUP(G12,Sheet1!A:D,4,FALSE) -> 일상상품군 | E12: 제지 | F12: 생리대 | G12: 탐폰형생리대
A13: 라이프스타일매입운영팀 | B13: 윤서영 | C13: =VLOOKUP(G13,Sheet1!A:D,3,FALSE) -> 일상 | D13: =VLOOKUP(G13,Sheet1!A:D,4,FALSE) -> 일상상품군 | E13: 제지 | F13: 생리대 | G13: 팬티라이너
A14: 라이프스타일매입운영팀 | B14: 윤서영 | C14: =VLOOKUP(G14,Sheet1!A:D,3,FALSE) -> 일상 | D14: =VLOOKUP(G14,Sheet1!A:D,4,FALSE) -> 일상상품군 | E14: 제지 | F14: 키친타올 | G14: 빨아쓰는키친타올
A15: 라이프스타일매입운영팀 | B15: 윤서영 | C15: =VLOOKUP(G15,Sheet1!A:D,3,FALSE) -> 일상 | D15: =VLOOKUP(G15,Sheet1!A:D,4,FALSE) -> 일상상품군 | E15: 제지 | F15: 키친타올 | G15: 키친타올
A16: 라이프스타일매입운영팀 | B16: 윤서영 | C16: =VLOOKUP(G16,Sheet1!A:D,3,FALSE) -> 일상 | D16: =VLOOKUP(G16,Sheet1!A:D,4,FALSE) -> 일상상품군 | E16: 제지 | F16: 화장지 | G16: 일반화장지
... A38: 라이프스타일매입운영팀 | B38: 신혜순 | C38: =VLOOKUP(G38,Sheet1!A:D,3,FALSE) -> 일상 | D38: =VLOOKUP(G38,Sheet1!A:D,4,FALSE) -> 일상상품군 | E38: 헬스케어 | F38: 의약외품 | G38: 의약외품 잡화
A39: 라이프스타일매입운영팀 | B39: 신혜순 | C39: 일상 | D39: 일상상품군 | E39: 헬스케어 | F39: 의약외품 | G39: 콘돔
A40: 라이프스타일매입운영팀 | B40: 신혜순 | C40: =VLOOKUP(G40,Sheet1!A:D,3,FALSE) -> 일상 | D40: =VLOOKUP(G40,Sheet1!A:D,4,FALSE) -> 일상상품군 | E40: 헬스케어 | F40: 의약외품 | G40: 핫팩 | H40: 생활용품 안전인증
A41: 라이프스타일매입운영팀 | B41: 이경원 | C41: =VLOOKUP(G41,Sheet1!A:D,3,FALSE) -> 일상 | D41: =VLOOKUP(G41,Sheet1!A:D,4,FALSE) -> 일상상품군 | E41: 세제 | F41: 방향방충제 | G41: 나프탈렌/좀약 | H41: 생활화학제품 인증 살생물제품 인증
A42: 라이프스타일매입운영팀 | B42: 이경원 | C42: =VLOOKUP(G42,Sheet1!A:D,3,FALSE) -> 일상 | D42: =VLOOKUP(G42,Sheet1!A:D,4,FALSE) -> 일상상품군 | E42: 세제 | F42: 방향방충제 | G42: 모기약 | H42: 살생물제품 인증
A43: 라이프스타일매입운영팀 | B43: 이경원 | C43: =VLOOKUP(G43,Sheet1!A:D,3,FALSE) -> 일상 | D43: =VLOOKUP(G43,Sheet1!A:D,4,FALSE) -> 일상상품군 | E43: 세제 | F43: 방향방충제 | G43: 방향제 | H43: 생활화학제품 인증
A44: 라이프스타일매입운영팀 | B44: 이경원 | C44: =VLOOKUP(G44,Sheet1!A:D,3,FALSE) -> 일상 | D44: =VLOOKUP(G44,Sheet1!A:D,4,FALSE) -> 일상상품군 | E44: 세제 | F44: 방향방충제 | G44: 살충제 | H44: 살생물제품 인증
A45: 라이프스타일매입운영팀 | B45: 이경원 | C45: =VLOOKUP(G45,Sheet1!A:D,3,FALSE) -> 일상 | D45: =VLOOKUP(G45,Sheet1!A:D,4,FALSE) -> 일상상품군 | E45: 세제 | F45: 방향방충제 | G45: 해충퇴치제 | H45: 살생물제품 인증
A46: 라이프스타일매입운영팀 | B46: 이경원 | C46: =VLOOKUP(G46,Sheet1!A:D,3,FALSE) -> 일상 | D46: =VLOOKUP(G46,Sheet1!A:D,4,FALSE) -> 일상상품군 | E46: 세제 | F46: 생활선물세트 | G46: 생활선물세트
A47: 라이프스타일매입운영팀 | B47: 이경원 | C47: =VLOOKUP(G47,Sheet1!A:D,3,FALSE) -> 일상 | D47: =VLOOKUP(G47,Sheet1!A:D,4,FALSE) -> 일상상품군 | E47: 세제 | F47: 섬유유연제 | G47: 일반섬유유연제 | H47: 생활화학제품 인증
A48: 라이프스타일매입운영팀 | B48: 이경원 | C48: =VLOOKUP(G48,Sheet1!A:D,3,FALSE) -> 일상 | D48: =VLOOKUP(G48,Sheet1!A:D,4,FALSE) -> 일상상품군 | E48: 세제 | F48: 섬유유연제 | G48: 프리미엄섬유유연제 | H48: 생활화학제품 인증
A49: 라이프스타일매입운영팀 | B49: 이경원 | C49: =VLOOKUP(G49,Sheet1!A:D,3,FALSE) -> 일상 | D49: =VLOOKUP(G49,Sheet1!A:D,4,FALSE) -> 일상상품군 | E49: 세제 | F49: 세탁세제 | G49: 드럼세탁세제 | H49: 생활화학제품 인증
A50: 라이프스타일매입운영팀 | B50: 이경원 | C50: =VLOOKUP(G50,Sheet1!A:D,3,FALSE) -> 일상 | D50: =VLOOKUP(G50,Sheet1!A:D,4,FALSE) -> 일상상품군 | E50: 세제 | F50: 세탁세제 | G50: 보조세탁세제(비누)
A51: 라이프스타일매입운영팀 | B51: 이경원 | C51: =VLOOKUP(G51,Sheet1!A:D,3,FALSE) -> 일상 | D51: =VLOOKUP(G51,Sheet1!A:D,4,FALSE) -> 일상상품군 | E51: 세제 | F51: 세탁세제 | G51: 시트/캡슐세제 | H51: 생활화학제품 인증
A52: 라이프스타일매입운영팀 | B52: 이경원 | C52: =VLOOKUP(G52,Sheet1!A:D,3,FALSE) -> 일상 | D52: =VLOOKUP(G52,Sheet1!A:D,4,FALSE) -> 일상상품군 | E52: 세제 | F52: 세탁세제 | G52: 유아용세탁세제 | H52: 생활화학제품 인증
A53: 라이프스타일매입운영팀 | B53: 이경원 | C53: =VLOOKUP(G53,Sheet1!A:D,3,FALSE) -> 일상 | D53: =VLOOKUP(G53,Sheet1!A:D,4,FALSE) -> 일상상품군 | E53: 세제 | F53: 세탁세제 | G53: 일반세탁세제 | H53: 생활화학제품 인증
A54: 라이프스타일매입운영팀 | B54: 이경원 | C54: =VLOOKUP(G54,Sheet1!A:D,3,FALSE) -> 일상 | D54: =VLOOKUP(G54,Sheet1!A:D,4,FALSE) -> 일상상품군 | E54: 세제 | F54: 소독제/살균제 | G54: 살균소독제 | H54: 식품첨가물 인증 생활화학제품 인증
A55: 라이프스타일매입운영팀 | B55: 이경원 | C55: =VLOOKUP(G55,Sheet1!A:D,3,FALSE) -> 일상 | D55: =VLOOKUP(G55,Sheet1!A:D,4,FALSE) -> 일상상품군 | E55: 세제 | F55: 소독제/살균제 | G55: 손소독제 | H55: 의약외품 제조번호
A56: 라이프스타일매입운영팀 | B56: 이경원 | C56: =VLOOKUP(G56,Sheet1!A:D,3,FALSE) -> 일상 | D56: =VLOOKUP(G56,Sheet1!A:D,4,FALSE) -> 일상상품군 | E56: 세제 | F56: 유아용세제 | G56: 유아용세제/섬유유연제 | H56: 생활화학제품 인증
A57: 라이프스타일매입운영팀 | B57: 이경원 | C57: =VLOOKUP(G57,Sheet1!A:D,3,FALSE) -> 일상 | D57: =VLOOKUP(G57,Sheet1!A:D,4,FALSE) -> 일상상품군 | E57: 세제 | F57: 주거세제 | G57: 다용도세제 | H57: 생활화학제품 인증
A58: 라이프스타일매입운영팀 | B58: 이경원 | C58: =VLOOKUP(G58,Sheet1!A:D,3,FALSE) -> 일상 | D58: =VLOOKUP(G58,Sheet1!A:D,4,FALSE) -> 일상상품군 | E58: 세제 | F58: 주거세제 | G58: 락스 | H58: 생활화학제품 인증
A59: 라이프스타일매입운영팀 | B59: 이경원 | C59: =VLOOKUP(G59,Sheet1!A:D,3,FALSE) -> 일상 | D59: =VLOOKUP(G59,Sheet1!A:D,4,FALSE) -> 일상상품군 | E59: 세제 | F59: 주거세제 | G59: 생활세정제 | H59: 생활화학제품 인증
A60: 라이프스타일매입운영팀 | B60: 이경원 | C60: =VLOOKUP(G60,Sheet1!A:D,3,FALSE) -> 일상 | D60: =VLOOKUP(G60,Sheet1!A:D,4,FALSE) -> 일상상품군 | E60: 세제 | F60: 주거세제 | G60: 유리세정제 | H60: 생활화학제품 인증
A61: 라이프스타일매입운영팀 | B61: 이경원 | C61: =VLOOKUP(G61,Sheet1!A:D,3,FALSE) -> 일상 | D61: =VLOOKUP(G61,Sheet1!A:D,4,FALSE) -> 일상상품군 | E61: 세제 | F61: 주거세제 | G61: 주거세정제 | H61: 생활화학제품 인증
A62: 라이프스타일매입운영팀 | B62: 이경원 | C62: =VLOOKUP(G62,Sheet1!A:D,3,FALSE) -> 일상 | D62: =VLOOKUP(G62,Sheet1!A:D,4,FALSE) -> 일상상품군 | E62: 세제 | F62: 주거세제 | G62: 청소세제 | H62: 생활화학제품 인증
... A68: 라이프스타일매입운영팀 | B68: 이경원 | C68: =VLOOKUP(G68,Sheet1!A:D,3,FALSE) -> 일상 | D68: =VLOOKUP(G68,Sheet1!A:D,4,FALSE) -> 일상상품군 | E68: 세제 | F68: 표백제 | G68: 표백제 | H68: 생활화학제품 인증
A69: 라이프스타일매입운영팀 | B69: 노란선 | C69: =VLOOKUP(G69,Sheet1!A:D,3,FALSE) -> 일상 | D69: =VLOOKUP(G69,Sheet1!A:D,4,FALSE) -> 일상상품군 | E69: 바디케어 | F69: 노브랜드 바디케어 | G69: 노브랜드 보습케어
...

Sheet Sheet1
B1: 행 레이블 | C1: 표준카테그룹 | D1: 표준카테대분류
A2: 미용티슈 | B2: 윤서영 | C2: 일상 | D2: 일상상품군
A3: 매쉬형생리대 | B3: 윤서영 | C3: 일상 | D3: 일상상품군
A4: 성인용기저귀 | B4: 윤서영 | C4: 일상 | D4: 일상상품군
A5: 순면생리대 | B5: 윤서영 | C5: 일상 | D5: 일상상품군
A6: 오가닉생리대 | B6: 윤서영 | C6: 일상 | D6: 일상상품군
A7: 오버나이트 | B7: 윤서영 | C7: 일상 | D7: 일상상품군
A8: 청결용품 | B8: 윤서영 | C8: 일상 | D8: 일상상품군
A9: 코튼형생리대 | B9: 윤서영 | C9: 일상 | D9: 일상상품군
A10: 탐폰형생리대 | B10: 윤서영 | C10: 일상 | D10: 일상상품군
A11: 팬티라이너 | B11: 윤서영 | C11: 일상 | D11: 일상상품군
A12: 빨아쓰는키친타올 | B12: 윤서영 | C12: 일상 | D12: 일상상품군
A13: 키친타올 | B13: 윤서영 | C13: 일상 | D13: 일상상품군
... A1024: 액세서리(SHOP)-E몰전용 | B1024: 최하민 | C1024: 패션 | D1024: 패션잡화
